BEGIN:VCALENDAR
VERSION:2.0
PRODID:-//Prywatna Szkoła Podstawowa i Prywatne Liceum Ogólnokształcące im. Noblistów Polskich w Krakowie - ECPv6.10.2//NONSGML v1.0//EN
CALSCALE:GREGORIAN
METHOD:PUBLISH
X-WR-CALNAME:Prywatna Szkoła Podstawowa i Prywatne Liceum Ogólnokształcące im. Noblistów Polskich w Krakowie
X-ORIGINAL-URL:https://www.edukacja.krakow.pl/?lang=en
X-WR-CALDESC:Events for Prywatna Szkoła Podstawowa i Prywatne Liceum Ogólnokształcące im. Noblistów Polskich w Krakowie
REFRESH-INTERVAL;VALUE=DURATION:PT1H
X-Robots-Tag:noindex
X-PUBLISHED-TTL:PT1H
BEGIN:VTIMEZONE
TZID:Europe/Warsaw
BEGIN:DAYLIGHT
TZOFFSETFROM:+0100
TZOFFSETTO:+0200
TZNAME:CEST
DTSTART:20180325T010000
END:DAYLIGHT
BEGIN:STANDARD
TZOFFSETFROM:+0200
TZOFFSETTO:+0100
TZNAME:CET
DTSTART:20181028T010000
END:STANDARD
END:VTIMEZONE
BEGIN:VEVENT
DTSTART;VALUE=DATE:20181112
DTEND;VALUE=DATE:20181117
DTSTAMP:20260423T195226
CREATED:20181031T091415Z
LAST-MODIFIED:20181106T180210Z
UID:10828-1541980800-1542412799@www.edukacja.krakow.pl
SUMMARY:Tydzień bez zadania domowego
DESCRIPTION:
URL:https://www.edukacja.krakow.pl/event/tydzien-bez-zadania-domowego/?lang=en
END:VEVENT
BEGIN:VEVENT
DTSTART;VALUE=DATE:20181109
DTEND;VALUE=DATE:20181110
DTSTAMP:20260423T195226
CREATED:20181031T091319Z
LAST-MODIFIED:20181031T091319Z
UID:10826-1541721600-1541807999@www.edukacja.krakow.pl
SUMMARY:Warsztaty w Muzeum Narodowym
DESCRIPTION:Warsztaty pt.: “W świecie superbohaterów” w Muzeum Narodowym\, kl. 0 i 1 SP
URL:https://www.edukacja.krakow.pl/event/warsztaty-w-muzeum-narodowym/?lang=en
END:VEVENT
BEGIN:VEVENT
DTSTART;VALUE=DATE:20181109
DTEND;VALUE=DATE:20181110
DTSTAMP:20260423T195226
CREATED:20181031T091037Z
LAST-MODIFIED:20181031T091037Z
UID:10824-1541721600-1541807999@www.edukacja.krakow.pl
SUMMARY:Małopolski Konkurs Języka Niemieckiego
DESCRIPTION:Małopolski Konkurs Języka Niemieckiego dla Szkół Podstawowych – etap szkolny
URL:https://www.edukacja.krakow.pl/event/malopolski-konkurs-jezyka-niemieckiego/?lang=en
END:VEVENT
BEGIN:VEVENT
DTSTART;VALUE=DATE:20181108
DTEND;VALUE=DATE:20181109
DTSTAMP:20260423T195226
CREATED:20181031T090923Z
LAST-MODIFIED:20181106T180421Z
UID:10822-1541635200-1541721599@www.edukacja.krakow.pl
SUMMARY:Małopolski Konkurs Języka Angielskiego
DESCRIPTION:Małopolski Konkurs Języka Angielskiego dla klas gimnazjalnych – etap szkolny
URL:https://www.edukacja.krakow.pl/event/malopolski-konkurs-jezyka-angielskiego-2/?lang=en
END:VEVENT
BEGIN:VEVENT
DTSTART;VALUE=DATE:20181106
DTEND;VALUE=DATE:20181107
DTSTAMP:20260423T195226
CREATED:20181031T090753Z
LAST-MODIFIED:20181031T090753Z
UID:10820-1541462400-1541548799@www.edukacja.krakow.pl
SUMMARY:Konkurs Losy żołnierza i dzieje oręża polskiego
DESCRIPTION:Konkurs Losy żołnierza i dzieje oręża polskiego – etap szkolny.
URL:https://www.edukacja.krakow.pl/event/konkurs-losy-zolnierza-i-dzieje-oreza-polskiego/?lang=en
END:VEVENT
BEGIN:VEVENT
DTSTART;VALUE=DATE:20181106
DTEND;VALUE=DATE:20181107
DTSTAMP:20260423T195227
CREATED:20181031T090553Z
LAST-MODIFIED:20181031T090553Z
UID:10818-1541462400-1541548799@www.edukacja.krakow.pl
SUMMARY:Małopolski Konkurs z Języka Polskiego
DESCRIPTION:Małopolski Konkurs z Języka Polskiego dla Szkół Podstawowych – etap szkolny.
URL:https://www.edukacja.krakow.pl/event/malopolski-konkurs-z-jezyka-polskiego/?lang=en
END:VEVENT
BEGIN:VEVENT
DTSTART;VALUE=DATE:20181105
DTEND;VALUE=DATE:20181106
DTSTAMP:20260423T195227
CREATED:20181031T090132Z
LAST-MODIFIED:20181031T090132Z
UID:10816-1541376000-1541462399@www.edukacja.krakow.pl
SUMMARY:Małopolski Konkurs Biologiczny
DESCRIPTION:Małopolski Konkurs Biologiczny dla Szkół Podstawowych – etap szkolny
URL:https://www.edukacja.krakow.pl/event/malopolski-konkurs-biologiczny/?lang=en
END:VEVENT
BEGIN:VEVENT
DTSTART;TZID=Europe/Warsaw:20180208T073000
DTEND;TZID=Europe/Warsaw:20180208T113000
DTSTAMP:20260423T195227
CREATED:20180125T102544Z
LAST-MODIFIED:20180125T102544Z
UID:8734-1518075000-1518089400@www.edukacja.krakow.pl
SUMMARY:Zajęcia laboratoryjne z fizyki - Gimnazjum
DESCRIPTION:Zajęcia laboratoryjne z fizyki. Wydział Fizyki Uniwersytetu Jagiellońskiego.
URL:https://www.edukacja.krakow.pl/event/zajecia-laboratoryjne-fizyki-gimnazjum/?lang=en
END:VEVENT
BEGIN:VEVENT
DTSTART;VALUE=DATE:20180207
DTEND;VALUE=DATE:20180208
DTSTAMP:20260423T195227
CREATED:20180125T102347Z
LAST-MODIFIED:20180125T102347Z
UID:8732-1517961600-1518047999@www.edukacja.krakow.pl
SUMMARY:Bal karnawałowy - dyskoteka walentynkowa
DESCRIPTION:kl. 0-3: 10.45 – 12.30\nkl. 4-6: 15.30 – 17.00\nkl. 7 i Gimnazjum: 17.00-18.30
URL:https://www.edukacja.krakow.pl/event/bal-karnawalowy-dyskoteka-walentynkowa/?lang=en
END:VEVENT
BEGIN:VEVENT
DTSTART;VALUE=DATE:20180207
DTEND;VALUE=DATE:20180208
DTSTAMP:20260423T195227
CREATED:20180125T101820Z
LAST-MODIFIED:20180125T101820Z
UID:8728-1517961600-1518047999@www.edukacja.krakow.pl
SUMMARY:Zawody koszykarskie - Szkoła Podstawowa
DESCRIPTION:XX Zawody Sportowe Krakowskich Niepublicznych Szkół Podstawowych i Gimnazjów w Koszykówce. 
URL:https://www.edukacja.krakow.pl/event/zawody-koszykarskie-szkola-podstawowa/?lang=en
END:VEVENT
BEGIN:VEVENT
DTSTART;VALUE=DATE:20180206
DTEND;VALUE=DATE:20180207
DTSTAMP:20260423T195227
CREATED:20180125T102130Z
LAST-MODIFIED:20180125T102130Z
UID:8730-1517875200-1517961599@www.edukacja.krakow.pl
SUMMARY:Spektakl "Opowieść wigilijna" w Teatrze Współczesnym - kl. 5-7
DESCRIPTION:Spektakl “Opowieść wigilijna” w Teatrze Współczesnym.\nkl. 6-7 w godz. 8:45-11.00\nkl. 5-7 w godz. 10.00-13.30.
URL:https://www.edukacja.krakow.pl/event/spektakl-opowiesc-wigilijna-teatrze-wspolczesnym-kl-5-7/?lang=en
END:VEVENT
BEGIN:VEVENT
DTSTART;VALUE=DATE:20180206
DTEND;VALUE=DATE:20180207
DTSTAMP:20260423T195227
CREATED:20180125T101735Z
LAST-MODIFIED:20180125T101735Z
UID:8726-1517875200-1517961599@www.edukacja.krakow.pl
SUMMARY:Zawody koszykarskie - Gimnazjum
DESCRIPTION:XX Zawody Sportowe Krakowskich Niepublicznych Szkół Podstawowych i Gimnazjów w Koszykówce. 
URL:https://www.edukacja.krakow.pl/event/zawody-koszykarskie-gimnazjum/?lang=en
END:VEVENT
BEGIN:VEVENT
DTSTART;TZID=Europe/Warsaw:20180201T103000
DTEND;TZID=Europe/Warsaw:20180201T113000
DTSTAMP:20260423T195227
CREATED:20180125T101537Z
LAST-MODIFIED:20180125T101537Z
UID:8724-1517481000-1517484600@www.edukacja.krakow.pl
SUMMARY:Przesłuchania do Konkurs Piosenki Anglojęzycznej
DESCRIPTION:Przesłuchania do Konkurs Piosenki Anglojęzycznej.
URL:https://www.edukacja.krakow.pl/event/przesluchania-konkurs-piosenki-anglojezycznej/?lang=en
END:VEVENT
BEGIN:VEVENT
DTSTART;TZID=Europe/Warsaw:20180131T080000
DTEND;TZID=Europe/Warsaw:20180131T113000
DTSTAMP:20260423T195227
CREATED:20180125T101433Z
LAST-MODIFIED:20180125T101433Z
UID:8722-1517385600-1517398200@www.edukacja.krakow.pl
SUMMARY:Finał przesłuchań do XV Konkursu Recytatorskiego
DESCRIPTION:Finał przesłuchań do XV Konkursu Recytatorskiego. Nowohuckie Centrum Kultury.
URL:https://www.edukacja.krakow.pl/event/final-przesluchan-xv-konkursu-recytatorskiego/?lang=en
END:VEVENT
BEGIN:VEVENT
DTSTART;VALUE=DATE:20180130
DTEND;VALUE=DATE:20180131
DTSTAMP:20260423T195227
CREATED:20180125T101249Z
LAST-MODIFIED:20180125T101249Z
UID:8720-1517270400-1517356799@www.edukacja.krakow.pl
SUMMARY:Przedstawienie świąteczne
DESCRIPTION:Przedstawienie świąteczne – sala teatralna parafii św. Jadwigi.\nSzkolny Dzień Babci i Dziadka
URL:https://www.edukacja.krakow.pl/event/przedstawienie-swiateczne/?lang=en
END:VEVENT
BEGIN:VEVENT
DTSTART;TZID=Europe/Warsaw:20180126T113000
DTEND;TZID=Europe/Warsaw:20180126T153000
DTSTAMP:20260423T195227
CREATED:20180125T101031Z
LAST-MODIFIED:20180125T101031Z
UID:8718-1516966200-1516980600@www.edukacja.krakow.pl
SUMMARY:Wycieczka klasy 7 do Laserparku
DESCRIPTION:Wycieczka klasy 7 do Laserparku.
URL:https://www.edukacja.krakow.pl/event/wycieczka-klasy-7-laserparku/?lang=en
END:VEVENT
BEGIN:VEVENT
DTSTART;TZID=Europe/Warsaw:20180125T090000
DTEND;TZID=Europe/Warsaw:20180125T103000
DTSTAMP:20260423T195227
CREATED:20180125T100900Z
LAST-MODIFIED:20180125T100900Z
UID:8716-1516870800-1516876200@www.edukacja.krakow.pl
SUMMARY:Małopolski Konkurs Języka Angielskiego
DESCRIPTION:Małopolski Konkurs Języka Angielskiego dla Szkół Podstawowych. Etap Rejonowy
URL:https://www.edukacja.krakow.pl/event/malopolski-konkurs-jezyka-angielskiego/?lang=en
END:VEVENT
BEGIN:VEVENT
DTSTART;TZID=Europe/Warsaw:20180124T120000
DTEND;TZID=Europe/Warsaw:20180124T143000
DTSTAMP:20260423T195227
CREATED:20180125T100802Z
LAST-MODIFIED:20180125T100802Z
UID:8714-1516795200-1516804200@www.edukacja.krakow.pl
SUMMARY:Małopolski Konkurs Tematyczny "Różne Oblicza Hiszpanii"
DESCRIPTION:Małopolski Konkurs Tematyczny “Różne Oblicza Hiszpanii” – etap rejonowy
URL:https://www.edukacja.krakow.pl/event/malopolski-konkurs-tematyczny-rozne-oblicza-hiszpanii/?lang=en
END:VEVENT
BEGIN:VEVENT
DTSTART;TZID=Europe/Warsaw:20180124T090000
DTEND;TZID=Europe/Warsaw:20180124T113000
DTSTAMP:20260423T195227
CREATED:20180125T100645Z
LAST-MODIFIED:20180125T100645Z
UID:8712-1516784400-1516793400@www.edukacja.krakow.pl
SUMMARY:Małopolski Konkurs Matematyczny
DESCRIPTION:Małopolski Konkurs Matematyczny. Etap rejonowy.
URL:https://www.edukacja.krakow.pl/event/malopolski-konkurs-matematyczny/?lang=en
END:VEVENT
BEGIN:VEVENT
DTSTART;VALUE=DATE:20180123
DTEND;VALUE=DATE:20180124
DTSTAMP:20260423T195227
CREATED:20180125T100534Z
LAST-MODIFIED:20180125T100534Z
UID:8710-1516665600-1516751999@www.edukacja.krakow.pl
SUMMARY:Małopolski Konkurs Humanistyczny
DESCRIPTION:Małopolski Konkurs Humanistyczny. Etap rejonowy.
URL:https://www.edukacja.krakow.pl/event/malopolski-konkurs-humanistyczny/?lang=en
END:VEVENT
BEGIN:VEVENT
DTSTART;VALUE=DATE:20180122
DTEND;VALUE=DATE:20180123
DTSTAMP:20260423T195227
CREATED:20180125T100442Z
LAST-MODIFIED:20180125T100442Z
UID:8708-1516579200-1516665599@www.edukacja.krakow.pl
SUMMARY:Małopolski Konkurs Języka Polskiego
DESCRIPTION:Małopolski Konkurs Języka Polskiego. Etap rejonowy
URL:https://www.edukacja.krakow.pl/event/malopolski-konkurs-jezyka-polskiego/?lang=en
END:VEVENT
BEGIN:VEVENT
DTSTART;TZID=Europe/Warsaw:20180119T130000
DTEND;TZID=Europe/Warsaw:20180119T143000
DTSTAMP:20260423T195227
CREATED:20171207T182426Z
LAST-MODIFIED:20171207T182426Z
UID:8776-1516366800-1516372200@www.edukacja.krakow.pl
SUMMARY:Małopolski Konkurs Matematyczny
DESCRIPTION:Małopolski Konkurs Matematyczny dla Gimnazjalistów – etap rejonowy.
URL:https://www.edukacja.krakow.pl/event/malopolski-konkurs-matematyczny-2/?lang=en
END:VEVENT
END:VCALENDAR